BEGIN:VCALENDAR
VERSION:2.0
PRODID:-//Mi a népet szolgáljuk  - ECPv6.1.3//NONSGML v1.0//EN
CALSCALE:GREGORIAN
METHOD:PUBLISH
X-ORIGINAL-URL:https://ujalternativa.hu
X-WR-CALDESC:Events for Mi a népet szolgáljuk 
REFRESH-INTERVAL;VALUE=DURATION:PT1H
X-Robots-Tag:noindex
X-PUBLISHED-TTL:PT1H
BEGIN:VTIMEZONE
TZID:Europe/Budapest
BEGIN:DAYLIGHT
TZOFFSETFROM:+0100
TZOFFSETTO:+0200
TZNAME:CEST
DTSTART:20190331T010000
END:DAYLIGHT
BEGIN:STANDARD
TZOFFSETFROM:+0200
TZOFFSETTO:+0100
TZNAME:CET
DTSTART:20191027T010000
END:STANDARD
BEGIN:DAYLIGHT
TZOFFSETFROM:+0100
TZOFFSETTO:+0200
TZNAME:CEST
DTSTART:20200329T010000
END:DAYLIGHT
BEGIN:STANDARD
TZOFFSETFROM:+0200
TZOFFSETTO:+0100
TZNAME:CET
DTSTART:20201025T010000
END:STANDARD
BEGIN:DAYLIGHT
TZOFFSETFROM:+0100
TZOFFSETTO:+0200
TZNAME:CEST
DTSTART:20210328T010000
END:DAYLIGHT
BEGIN:STANDARD
TZOFFSETFROM:+0200
TZOFFSETTO:+0100
TZNAME:CET
DTSTART:20211031T010000
END:STANDARD
BEGIN:DAYLIGHT
TZOFFSETFROM:+0100
TZOFFSETTO:+0200
TZNAME:CEST
DTSTART:20220327T010000
END:DAYLIGHT
BEGIN:STANDARD
TZOFFSETFROM:+0200
TZOFFSETTO:+0100
TZNAME:CET
DTSTART:20221030T010000
END:STANDARD
BEGIN:DAYLIGHT
TZOFFSETFROM:+0100
TZOFFSETTO:+0200
TZNAME:CEST
DTSTART:20230326T010000
END:DAYLIGHT
BEGIN:STANDARD
TZOFFSETFROM:+0200
TZOFFSETTO:+0100
TZNAME:CET
DTSTART:20231029T010000
END:STANDARD
END:VTIMEZONE
BEGIN:VEVENT
DTSTART;TZID=Europe/Budapest:20230930T100000
DTEND;TZID=Europe/Budapest:20230930T100000
DTSTAMP:20260423T165635
CREATED:20230808T115643Z
LAST-MODIFIED:20230808T115644Z
UID:736-1696068000-1696068000@ujalternativa.hu
SUMMARY:Vagy így\, vagy úgy! Esélyegyenlőséget!
DESCRIPTION:Vagy így\, vagy úgy! Esélyegyenlőséget!\n\nMint jól tudjuk\, ebben az országban a hatalmat nem érdekli\, milyen törvények vannak\, tesznek rájuk nagy ívben! Pedig:\nA választási eljárásról szóló törvény kimondja: \n2. § (1) A választási eljárás szabályainak alkalmazása során érvényre kell juttatni a következő alapelveket:\nc) esélyegyenlőség a jelöltek és a jelölő szervezetek között\, \nA médiatörvény kimondja:\n5. § * A Magyarország területén élőknek\, illetve a magyar nemzet tagjainak tájékozódáshoz és tájékoztatáshoz fűződő joga\, illetve ezzel összefüggésben a demokratikus társadalmi nyilvánosság kialakulása és megerősödése kiemelkedő alkotmányos érdek.\n6. § A közszolgálati médiaszolgáltatás a demokratikus társadalmi rend megfelelő működésének elengedhetetlenül szükséges feltétele. \n\nSOHA nem lesz hazánkban semmiféle demokratikus választás\, amíg a NER 95%-os médiafölénnyel rendelkezik\, hisz nem valósul meg a tájékozódáshoz és tájékoztatáshoz fűződő jog\, hazudnak nekünk reggel\, délben\, meg este is!\nEz kifejezetten vonatkozik a közszolgálati médiára\, amit évi 140 milliárd adóforintunkból tart fenn az állam\, de csak a szenny\, a gyalázat\, a töménytelen hazugság folyik onnan!\nVagyis\, ha nem biztosítják a demokratikus választás alapfeltételét\, a tájékozódáshoz és tájékoztatáshoz fűződő jog megvalósulását\, akkor nem lesz más megoldása a népnek\, mint önhatalmúlag magához ragadni a hatalmat! \nMost először megpróbálunk bemenni\, vagy így\, vagy úgy!\nGyere velünk! \n\n(Fotó: HVG)
URL:https://ujalternativa.hu/esemenyek/vagy-igy-vagy-ugy-eselyegyenloseget/
LOCATION:MTVA székház\, Kunigunda útja 64.\, Budapest\, Pest megye\, 1037\, Magyarország
ATTACH;FMTTYPE=image/jpeg:https://ujalternativa.hu/wp-content/uploads/2023/08/365448167_598979325735808_7286247627502201347_n.jpg
ORGANIZER;CN="%C3%9Aj%20Alternat%C3%ADva%20P%C3%A1rt":MAILTO:kapcsolat@ujalternativa.hu
END:VEVENT
BEGIN:VEVENT
DTSTART;TZID=Europe/Budapest:20230813T110000
DTEND;TZID=Europe/Budapest:20230813T190000
DTSTAMP:20260423T165635
CREATED:20230803T132653Z
LAST-MODIFIED:20230803T133105Z
UID:730-1691924400-1691953200@ujalternativa.hu
SUMMARY:Grillparti-Nyílt Nap
DESCRIPTION:„Minden modern ember közösségben él\, miközben persze önálló individuum. A kettő aránya\, egymáshoz való viszonya dönti el\, hogy a közösség\, és benne az ember hogyan boldogul.” (Kaltenbach Jenő) \n\nAz Új Alternatíva Párt elnöksége szeretettel \nmeghív minden érdeklődőt a párt Nyílt Napjára! \nTöltsünk el együtt egy kellemes napot a szabadban\,\nfinom grillételek társaságában!\nVárjuk őszinte\, kritikus kérdéseiteket\, véleményeteket!\n(Viharos rossz idő\, eső esetén a rendezvény elmarad!) \nIdőpont: 2023. augusztus 13. Vasárnap 11.00\nHelyszín: Két RomBusz Söröző\, hátul a medencében (víz nincs benne!)\nCím: 1031 Budapest\, Római part 43. (innen még 50 m északra)\nParkolás: a Rozgonyi Piroska utcában\, ahonnan kb. 70 m gyalog\, észak\nfelé a parton\nTömegközlekedés: Szentendrei H5 HÉV a Batthyány tértől Aquincum\nmegállóig\,majd a 34-es busz a Nimród utcáig\, onnan 10 perc gyalog \nA részvétel ingyenes\, de előzetes regisztrációhoz kötött! \n\nJelentkezés a kapcsolat@ujalternativa.hu e-mail címen!
URL:https://ujalternativa.hu/esemenyek/grillparti-nyilt-nap/
LOCATION:Két Rombusz\, Római Part 43.\, Budapest\, Pest megye\, 1031
ATTACH;FMTTYPE=image/jpeg:https://ujalternativa.hu/wp-content/uploads/2023/08/358073711_584754897158251_6147367483093839010_n.jpg
ORGANIZER;CN="%C3%9Aj%20Alternat%C3%ADva%20P%C3%A1rt":MAILTO:kapcsolat@ujalternativa.hu
END:VEVENT
BEGIN:VEVENT
DTSTART;VALUE=DATE:20201114
DTEND;VALUE=DATE:20201115
DTSTAMP:20260423T165635
CREATED:20201011T173830Z
LAST-MODIFIED:20201104T160346Z
UID:550-1605312000-1605398399@ujalternativa.hu
SUMMARY:Közgyülés 2020
DESCRIPTION:A járvány és a rendkivüli helyzet miatt a közgyülés elmarad. A kialakult helyzet miatt ügyvédi tájékoztatás alapján a szavazás elektronikusan fog megtörténni. \nA részletekről rövidesen tájékoztatunk mindenkit. \nUjhelyi Sándor \nElnök
URL:https://ujalternativa.hu/esemenyek/kozgyules-2020/
LOCATION:Pest megye
ORGANIZER;CN="%C3%9Aj%20Alternat%C3%ADva%20P%C3%A1rt":MAILTO:kapcsolat@ujalternativa.hu
END:VEVENT
BEGIN:VEVENT
DTSTART;TZID=Europe/Budapest:20201017T100000
DTEND;TZID=Europe/Budapest:20201017T170000
DTSTAMP:20260423T165635
CREATED:20201014T072326Z
LAST-MODIFIED:20201014T072326Z
UID:558-1602928800-1602954000@ujalternativa.hu
SUMMARY:Új Alternatíva bemutatkozó fórum
DESCRIPTION:Új Alternatíva bemutatkozó fórum  \noktóber 17-én szombaton 10.00. \nSzentmártonkáta Szecsői út 9/b. Bejárat a Béke utcáról.
URL:https://ujalternativa.hu/esemenyek/uj-alternativa-bemutatkozo-forum/
LOCATION:Szentmártonkáta\, Szecsői út 9/b\, Szentmártonkáta\, 2254\, Magyarország
ORGANIZER;CN="%C3%9Aj%20Alternat%C3%ADva%20P%C3%A1rt":MAILTO:kapcsolat@ujalternativa.hu
END:VEVENT
BEGIN:VEVENT
DTSTART;VALUE=DATE:20200905
DTEND;VALUE=DATE:20200906
DTSTAMP:20260423T165635
CREATED:20200828T124116Z
LAST-MODIFIED:20200828T124116Z
UID:440-1599264000-1599350399@ujalternativa.hu
SUMMARY:Fontos információ - szeptember 5 - Lajosmizse
DESCRIPTION:A járvány miatt kérjük\, hogy a szept. 5-i \nÚj Alternatíva Párt találkozón mindenki viseljen maszkot! \nKöszönettel \nSzervezők
URL:https://ujalternativa.hu/esemenyek/fontos-informacio-szeptember-5-lajosmizse/
LOCATION:Pest megye
END:VEVENT
BEGIN:VEVENT
DTSTART;VALUE=DATE:20200905
DTEND;VALUE=DATE:20200906
DTSTAMP:20260423T165635
CREATED:20200824T192928Z
LAST-MODIFIED:20200824T192928Z
UID:426-1599264000-1599350399@ujalternativa.hu
SUMMARY:Lajosmizse Roadshow - 2020. szeptember 5
DESCRIPTION:Szeretettel meghívunk minden pártunk iránt érdeklődőt a szeptember 5-én \nLajosmizsén tartandó megbeszélésünkre\, roadshow-ra. \nVárjuk kérdéseiket és javaslataikat\, hogy Pártunk minél eredményesebben \nképviselhesse a választók akaratát. \nTalálkozzunk szeptember 5-én Lajosmizsén a Liza Hotel parkolójában. \nBudapestről gépkocsit tudunk biztosítani\, kérjük hogy igényeiket mihamarabb jelezzék.
URL:https://ujalternativa.hu/esemenyek/lajosmizse-roadshow-2020-szeptember-5/
LOCATION:lajosmizse\, Lajdosmizse\, Magyarország
END:VEVENT
BEGIN:VEVENT
DTSTART;TZID=Europe/Budapest:20200118T110000
DTEND;TZID=Europe/Budapest:20200118T140000
DTSTAMP:20260423T165635
CREATED:20191210T125444Z
LAST-MODIFIED:20191210T125620Z
UID:389-1579345200-1579356000@ujalternativa.hu
SUMMARY:Új év\, Új Alternatíva!
DESCRIPTION:A december hónap az ünneplésről\, a családról szól\, már nem is akarunk senkit zavarni. De jövőre\, „Új év\, új remények” …….\, pontosabban „Új feladatok”\, az Új Alternatíva felépítése!\nVárunk minden érdeklődőt!
URL:https://ujalternativa.hu/esemenyek/uj-ev-uj-alternativa/
LOCATION:Thököly étterem\, Thököly út 80.\, Budapest\, Pest megye\, 1146\, Magyarország
ATTACH;FMTTYPE=image/jpeg:https://ujalternativa.hu/wp-content/uploads/2019/12/uj-alternativa-hatter-e1575982465354.jpg
ORGANIZER;CN="%C3%9Aj%20Alternat%C3%ADva%20P%C3%A1rt":MAILTO:kapcsolat@ujalternativa.hu
END:VEVENT
BEGIN:VEVENT
DTSTART;TZID=Europe/Budapest:20191222T110000
DTEND;TZID=Europe/Budapest:20191222T140000
DTSTAMP:20260423T165635
CREATED:20191206T154352Z
LAST-MODIFIED:20191206T154449Z
UID:378-1577012400-1577023200@ujalternativa.hu
SUMMARY:Rászorulók Karácsonya
DESCRIPTION:Immár hagyománnyá vált\, hogy Karácsony alkalmából külön ünnepséget szervezünk azoknak a rászorulóknak\, akiknek nem jut az otthon melegéből\, illetve így is kívánunk segíteni a sokgyermekes családoknak. Idén is lesz étel\, ruha és ajándékosztás!\nVárjuk a támogatókat és az önkénteseket!\nSzervező:\nMESZE\nMinden Ember Számít Egyesület
URL:https://ujalternativa.hu/esemenyek/raszorulok-karacsonya/
LOCATION:Blaha Lujza tér\, Blaha Lujza tér\, Budapest\, Pest megye\, 1085\, Magyarország
ATTACH;FMTTYPE=image/jpeg:https://ujalternativa.hu/wp-content/uploads/2019/12/70854726_800187663770229_5105450327952326656_o-e1575646735490.jpg
ORGANIZER;CN="%C3%9Aj%20Alternat%C3%ADva%20P%C3%A1rt":MAILTO:kapcsolat@ujalternativa.hu
END:VEVENT
BEGIN:VEVENT
DTSTART;TZID=Europe/Budapest:20191107T180000
DTEND;TZID=Europe/Budapest:20191107T190000
DTSTAMP:20260423T165635
CREATED:20191103T160013Z
LAST-MODIFIED:20191206T123157Z
UID:351-1573149600-1573153200@ujalternativa.hu
SUMMARY:Not in my name!
DESCRIPTION:  \nA török hadvezetés bejelentette\, hogy október 9-én megtámadta Szíriát\, és három belépési ponton keresztül megkezdődött Szíriai Kurdisztán (Rojava) török megszállása. \nAz Európai Unió 28 tagállama egy közös nyilatkozatot akart kiadni\, mert az újabb véres harcok újabb menekültáradattal veszélyeztethetik az európai biztonságot. A tagországok elkészítettek egy szövegtervezetet\, amelyben felhívták a figyelmet a veszélyekre. A szöveget szerda reggel a politikai és biztonsági tanács ülésén írták volna alá\, azonban Szíjjártó Péter magyar külügyminiszter anélkül\, hogy bármilyen konkrét indokot mondott volna\, megvétózta azt. \nA Kurd Vöröskereszt és a Szíriai Emberjogi Megfigyelőközpont beszámolói szerint számos civil halt meg\, köztük gyerekek is\, már több mint százezer ember menekült el a térségből. A halottak között sok a keresztény is. \nOrbán Viktor meghívására november 7-én Magyarországra látogat Recep Tayyip Erdoğan török elnök. \nNem vagyunk rá kíváncsiak!\nEgy tömeggyilkos hóhérnak semmi keresnivalója Budapesten! \nTiltakozást szervezünk Erdogan látogatásának idejére\, (a napközbeni programjától függő helyszínen)\, illetve este 18 órakor gyertyagyújtás tartunk a török nagykövetség előtt\, a kurd áldozatok emlékére!
URL:https://ujalternativa.hu/esemenyek/not-in-my-name/
LOCATION:Andrássy út 123.\, Budapest\, Pest megye\, 1062\, Magyarország
ATTACH;FMTTYPE=image/jpeg:https://ujalternativa.hu/wp-content/uploads/2019/11/72689070_2352588848323415_3892145319785267200_n-e1572797222353.jpg
ORGANIZER;CN="%C3%9Aj%20Alternat%C3%ADva%20P%C3%A1rt":MAILTO:kapcsolat@ujalternativa.hu
END:VEVENT
BEGIN:VEVENT
DTSTART;TZID=Europe/Budapest:20190728T110000
DTEND;TZID=Europe/Budapest:20190728T120000
DTSTAMP:20260423T165635
CREATED:20190304T162405Z
LAST-MODIFIED:20191206T122746Z
UID:103-1564311600-1564315200@ujalternativa.hu
SUMMARY:Bálint Gazda köszöntése
DESCRIPTION:Sajnos ma a politika elkötelezettség fontosabb\, mint a szakmai tudás!\nPedig „Bálint Gazda”\, Bálint György egész életében úgy dolgozott\, hogy ő lett „az ország kertésze”. Egész generációk nőttek fel szakmai segítségét felhasználva. De a XVI. kerület képviselő testülete nem tartotta alkalmasnak a díszpolgári címre\, mert nem az ő támogatójuk!\nDe mi\, a magyar nép képviseletében\, pártállástól függetlenül\, elismerjük az ő munkásságát és a képen szereplő díszoklevelet kívánjuk átadni születésnapján. \nKérjük\, hogy az átadásra csak a legnagyobb rajongói jöjjenek el! \nBálint Gazda köszöntése
URL:https://ujalternativa.hu/esemenyek/balint-gazda-koszontese/
LOCATION:XVI. kerület\, Budapest\, Pest megye\, Magyarország
ORGANIZER;CN="%C3%9Aj%20Alternat%C3%ADva%20P%C3%A1rt":MAILTO:kapcsolat@ujalternativa.hu
END:VEVENT
BEGIN:VEVENT
DTSTART;TZID=Europe/Budapest:20190518T200000
DTEND;TZID=Europe/Budapest:20190518T220000
DTSTAMP:20260423T165635
CREATED:20190304T211917Z
LAST-MODIFIED:20190304T211917Z
UID:116-1558209600-1558216800@ujalternativa.hu
SUMMARY:Öntsünk tiszta vizet a pohárba!
DESCRIPTION:Újabb Soros és EU ellenes kampányba kezdett a kormány. Unjuk! \nOrbánék folyamatosan azt állítják\, hogy Soros György migránsok millióival akarja elárasztani Európát és hazánkat. \nLétezik egyáltalán ilyen Soros terv?\nValójában mi az igazság? Tisztázzuk!\nÖntsünk tiszta vizet a pohárba! \nEzért az Új Alternatíva párt nyilvános TV vitára hívja meg Soros Györgyöt és Orbán Viktort\, tisztázzák\, egymás szemébe nézve\, mi is az igazság!\nA meghívót az érintetteknek és az MTVA vezetésének\, az esemény meghirdetésével együtt\, postázzuk! \nÖntsünk tiszta vizet a pohárba!
URL:https://ujalternativa.hu/esemenyek/ontsunk-tiszta-vizet-a-poharba/
LOCATION:MTV\, Kunigunda útja 64.\, Budapest\, 1037\, Magyarország
ORGANIZER;CN="%C3%9Aj%20Alternat%C3%ADva%20P%C3%A1rt":MAILTO:kapcsolat@ujalternativa.hu
END:VEVENT
END:VCALENDAR